BEGIN:VCALENDAR
VERSION:2.0
PRODID:-//eventon.com NONSGML v1.0//EN
CALSCALE:GREGORIAN
METHOD:PUBLISH
BEGIN:VEVENT
UID:69eb5601f41ad
DTSTAMP:20260424T113737Z
DTSTART:20260731T181500Z
DTEND:20260731T194500Z
LOCATION:
SUMMARY:The Black Moods
DESCRIPTION:Playing LIVE in the Rathskeller Biergarten! (weather permitting
 ) 6:15-7:45pm. Prevailing Cover Charge. +21\nhttps://rathskeller.com/events
 /the-black-moods/
URL:https://rathskeller.com/events/the-black-moods/
END:VEVENT
END:VCALENDAR