BEGIN:VCALENDAR
VERSION:2.0
PRODID:-//eventon.com NONSGML v1.0//EN
CALSCALE:GREGORIAN
METHOD:PUBLISH
BEGIN:VEVENT
UID:69eb42c71076d
DTSTAMP:20260424T101535Z
DTSTART:20260801T200000Z
DTEND:20260801T230000Z
LOCATION:
SUMMARY:The Black Moods (Saturday)
DESCRIPTION:Playing LIVE in the Rathskeller Biergarten! (weather permitting
 ) 8-11pm. Prevailing Cover Charge. +21\nhttps://rathskeller.com/events/the-
 black-moods-saturday-6/
URL:https://rathskeller.com/events/the-black-moods-saturday-6/
END:VEVENT
END:VCALENDAR