BEGIN:VCALENDAR
VERSION:2.0
PRODID:-//eventon.com NONSGML v1.0//EN
CALSCALE:GREGORIAN
METHOD:PUBLISH
BEGIN:VEVENT
UID:69eb31c0e7ca9
DTSTAMP:20260424T090256Z
DTSTART:20260802T140000Z
DTEND:20260802T170000Z
LOCATION:
SUMMARY:Jake Towe Band (Sunday)
DESCRIPTION:Playing LIVE in the Rathskeller Biergarten! (weather permitting
 ) 2-5pm. Prevailing Cover Charge. +21\nhttps://rathskeller.com/events/jake-
 towe-band-sunday-3/
URL:https://rathskeller.com/events/jake-towe-band-sunday-3/
END:VEVENT
END:VCALENDAR