BEGIN:VCALENDAR
VERSION:2.0
PRODID:-//eventon.com NONSGML v1.0//EN
CALSCALE:GREGORIAN
METHOD:PUBLISH
BEGIN:VEVENT
UID:69eb1d3363b52
DTSTAMP:20260424T073515Z
DTSTART:20260813T190000Z
DTEND:20260813T220000Z
LOCATION:
SUMMARY:Levi Riggs Duo (Thursday)
DESCRIPTION:Playing LIVE in the Rathskeller Biergarten! (weather permitting
 ) 7-10pm. Prevailing Cover Charge. +21\nhttps://rathskeller.com/events/levi
 -riggs-duo-thursday-2/
URL:https://rathskeller.com/events/levi-riggs-duo-thursday-2/
END:VEVENT
END:VCALENDAR