BEGIN:VCALENDAR
VERSION:2.0
PRODID:-//eventon.com NONSGML v1.0//EN
CALSCALE:GREGORIAN
METHOD:PUBLISH
BEGIN:VEVENT
UID:69eb0ad20568c
DTSTAMP:20260424T061650Z
DTSTART:20260806T190000Z
DTEND:20260806T220000Z
LOCATION:
SUMMARY:MWO Duo (Thursday)
DESCRIPTION:Playing LIVE in the Rathskeller Biergarten! (weather permitting
 ) 7-10pm. Prevailing Cover Charge. +21\nhttps://rathskeller.com/events/mwo-
 duo-thursday-5/
URL:https://rathskeller.com/events/mwo-duo-thursday-5/
END:VEVENT
END:VCALENDAR