BEGIN:VCALENDAR
VERSION:2.0
PRODID:-//eventon.com NONSGML v1.0//EN
CALSCALE:GREGORIAN
METHOD:PUBLISH
BEGIN:VEVENT
UID:69eae08a08469
DTSTAMP:20260424T031626Z
DTSTART:20260828T181500Z
DTEND:20260828T194500Z
LOCATION:
SUMMARY:Brady Lee (Friday)
DESCRIPTION:Playing LIVE in the Rathskeller Biergarten! (weather permitting
 ) 6:15-7:45pm. Prevailing Cover Charge. +21\nhttps://rathskeller.com/events
 /brady-lee-friday-9/
URL:https://rathskeller.com/events/brady-lee-friday-9/
END:VEVENT
END:VCALENDAR