BEGIN:VCALENDAR
VERSION:2.0
PRODID:-//eventon.com NONSGML v1.0//EN
CALSCALE:GREGORIAN
METHOD:PUBLISH
BEGIN:VEVENT
UID:69eacd257b8d7
DTSTAMP:20260424T015341Z
DTSTART:20260320T180000Z
DTEND:20260320T210000Z
LOCATION:
SUMMARY:MWO (Friday)
DESCRIPTION:Playing LIVE in the Rathskeller Biergarten! (weather permitting
 ) 6:00-9:00pm. Prevailing Cover Charge. +21\nhttps://rathskeller.com/events
 /mwo-friday-2/
URL:https://rathskeller.com/events/mwo-friday-2/
END:VEVENT
END:VCALENDAR