BEGIN:VCALENDAR
VERSION:2.0
PRODID:-//eventon.com NONSGML v1.0//EN
CALSCALE:GREGORIAN
METHOD:PUBLISH
BEGIN:VEVENT
UID:69eaba84d7229
DTSTAMP:20260424T003412Z
DTSTART:20260322T140000Z
DTEND:20260322T170000Z
LOCATION:
SUMMARY:Aimee Eisenmann Duo (Sunday)
DESCRIPTION:Playing LIVE in the Rathskeller Biergarten! (weather permitting
 ) 2:00-5:00pm. Prevailing Cover Charge. +21\nhttps://rathskeller.com/events
 /aimee-eisenmann-duo-sunday-8/
URL:https://rathskeller.com/events/aimee-eisenmann-duo-sunday-8/
END:VEVENT
END:VCALENDAR