BEGIN:VCALENDAR
VERSION:2.0
PRODID:-//eventon.com NONSGML v1.0//EN
CALSCALE:GREGORIAN
METHOD:PUBLISH
BEGIN:VEVENT
UID:69eaa8c764f7e
DTSTAMP:20260423T231831Z
DTSTART:20260517T140000Z
DTEND:20260517T170000Z
LOCATION:
SUMMARY:Dream Slice (Sunday)
DESCRIPTION:Playing LIVE in the Rathskeller Biergarten! (weather permitting
 ) 2:00-5:00pm. Prevailing Cover Charge. +21\nhttps://rathskeller.com/events
 /dream-slice-sunday-7/
URL:https://rathskeller.com/events/dream-slice-sunday-7/
END:VEVENT
END:VCALENDAR