BEGIN:VCALENDAR
VERSION:2.0
PRODID:-//eventon.com NONSGML v1.0//EN
CALSCALE:GREGORIAN
METHOD:PUBLISH
BEGIN:VEVENT
UID:69ea920e7ab1d
DTSTAMP:20260423T214134Z
DTSTART:20260524T140000Z
DTEND:20260524T170000Z
LOCATION:
SUMMARY:Steve Donahoe (Sunday)
DESCRIPTION:Playing LIVE in the Rathskeller Biergarten! (weather permitting
 ) 2:00-5:00pm. Prevailing Cover Charge. +21\nhttps://rathskeller.com/events
 /steve-donahoe-sunday/
URL:https://rathskeller.com/events/steve-donahoe-sunday/
END:VEVENT
END:VCALENDAR