BEGIN:VCALENDAR
VERSION:2.0
PRODID:-//eventon.com NONSGML v1.0//EN
CALSCALE:GREGORIAN
METHOD:PUBLISH
BEGIN:VEVENT
UID:69ea691fc5905
DTSTAMP:20260423T184655Z
DTSTART:20260628T140000Z
DTEND:20260628T170000Z
LOCATION:
SUMMARY:The LitSoul Band (Sunday)
DESCRIPTION:Playing LIVE in the Rathskeller Biergarten! (weather permitting
 ) 2:00-5:00pm. Prevailing Cover Charge. +21\nhttps://rathskeller.com/events
 /the-litsoul-band-sunday/
URL:https://rathskeller.com/events/the-litsoul-band-sunday/
END:VEVENT
END:VCALENDAR