BEGIN:VCALENDAR
VERSION:2.0
PRODID:-//eventon.com NONSGML v1.0//EN
CALSCALE:GREGORIAN
METHOD:PUBLISH
BEGIN:VEVENT
UID:69ea538710b27
DTSTAMP:20260423T171447Z
DTSTART:20260719T140000Z
DTEND:20260719T170000Z
LOCATION:
SUMMARY:Midnight Redeye (Sunday)
DESCRIPTION:Playing LIVE in the Rathskeller Biergarten! (weather permitting
 ) 2:00-5:00pm. Prevailing Cover Charge. +21\nhttps://rathskeller.com/events
 /midnight-redeye-sunday-2/
URL:https://rathskeller.com/events/midnight-redeye-sunday-2/
END:VEVENT
END:VCALENDAR