BEGIN:VCALENDAR
VERSION:2.0
PRODID:-//eventon.com NONSGML v1.0//EN
CALSCALE:GREGORIAN
METHOD:PUBLISH
BEGIN:VEVENT
UID:69ea4160dfbab
DTSTAMP:20260423T155720Z
DTSTART:20260809T140000Z
DTEND:20260809T170000Z
LOCATION:
SUMMARY:Sour Daddy (Sunday)
DESCRIPTION:Playing LIVE in the Rathskeller Biergarten! (weather permitting
 ) 2:00-5:00pm. Prevailing Cover Charge. +21\nhttps://rathskeller.com/events
 /sour-daddy-sunday-2/
URL:https://rathskeller.com/events/sour-daddy-sunday-2/
END:VEVENT
END:VCALENDAR