BEGIN:VCALENDAR
VERSION:2.0
PRODID:-//eventon.com NONSGML v1.0//EN
CALSCALE:GREGORIAN
METHOD:PUBLISH
BEGIN:VEVENT
UID:69ea302fc2c6a
DTSTAMP:20260423T144359Z
DTSTART:20260816T140000Z
DTEND:20260816T170000Z
LOCATION:
SUMMARY:Star Taxi (Sunday)
DESCRIPTION:Playing LIVE in the Rathskeller Biergarten! (weather permitting
 ) 2:00-5:00pm. Prevailing Cover Charge. +21\nhttps://rathskeller.com/events
 /star-taxi-sunday/
URL:https://rathskeller.com/events/star-taxi-sunday/
END:VEVENT
END:VCALENDAR