BEGIN:VCALENDAR
VERSION:2.0
PRODID:-//eventon.com NONSGML v1.0//EN
CALSCALE:GREGORIAN
METHOD:PUBLISH
BEGIN:VEVENT
UID:69ea08c8458ee
DTSTAMP:20260423T115552Z
DTSTART:20260604T190000Z
DTEND:20260604T220000Z
LOCATION:
SUMMARY:Brady Lee (Thursday)
DESCRIPTION:Playing LIVE in the Rathskeller Biergarten! (weather permitting
 ) 7:00-10:00pm. Prevailing Cover Charge. +21\nhttps://rathskeller.com/event
 s/brady-lee-thursday-3/
URL:https://rathskeller.com/events/brady-lee-thursday-3/
END:VEVENT
END:VCALENDAR