BEGIN:VCALENDAR
VERSION:2.0
PRODID:-//eventon.com NONSGML v1.0//EN
CALSCALE:GREGORIAN
METHOD:PUBLISH
BEGIN:VEVENT
UID:69e9f8698203a
DTSTAMP:20260423T104601Z
DTSTART:20260611T190000Z
DTEND:20260611T220000Z
LOCATION:
SUMMARY:Phil Pierle (Thursday)
DESCRIPTION:Playing LIVE in the Rathskeller Biergarten! (weather permitting
 ) 7:00-10:00pm. Prevailing Cover Charge. +21\nhttps://rathskeller.com/event
 s/phil-pierle-thursday-8/
URL:https://rathskeller.com/events/phil-pierle-thursday-8/
END:VEVENT
END:VCALENDAR