BEGIN:VCALENDAR
VERSION:2.0
PRODID:-//eventon.com NONSGML v1.0//EN
CALSCALE:GREGORIAN
METHOD:PUBLISH
BEGIN:VEVENT
UID:69e9e70c36d51
DTSTAMP:20260423T093156Z
DTSTART:20260625T190000Z
DTEND:20260625T220000Z
LOCATION:
SUMMARY:Revelry (Thursday)
DESCRIPTION:Playing LIVE in the Rathskeller Biergarten! (weather permitting
 ) 7:00-10:00pm. Prevailing Cover Charge. +21\nhttps://rathskeller.com/event
 s/revelry-thursday/
URL:https://rathskeller.com/events/revelry-thursday/
END:VEVENT
END:VCALENDAR