BEGIN:VCALENDAR
VERSION:2.0
PRODID:-//eventon.com NONSGML v1.0//EN
CALSCALE:GREGORIAN
METHOD:PUBLISH
BEGIN:VEVENT
UID:69e9e7ea9c056
DTSTAMP:20260423T093538Z
DTSTART:20260903T180000Z
DTEND:20260903T210000Z
LOCATION:
SUMMARY:Aimee & Dave (Thursday)
DESCRIPTION:Playing LIVE in the Rathskeller Biergarten! (weather permitting
 ) 6:00-9:00pm. Prevailing Cover Charge. +21\nhttps://rathskeller.com/events
 /aimee-dave-thursday/
URL:https://rathskeller.com/events/aimee-dave-thursday/
END:VEVENT
END:VCALENDAR