BEGIN:VCALENDAR
VERSION:2.0
PRODID:-//eventon.com NONSGML v1.0//EN
CALSCALE:GREGORIAN
METHOD:PUBLISH
BEGIN:VEVENT
UID:69e9e66b15cf3
DTSTAMP:20260423T092915Z
DTSTART:20260910T180000Z
DTEND:20260910T210000Z
LOCATION:
SUMMARY:Klark Whitson (Thursday)
DESCRIPTION:Playing LIVE in the Rathskeller Biergarten! (weather permitting
 ) 6:00-9:00pm. Prevailing Cover Charge. +21\nhttps://rathskeller.com/events
 /klark-whitson-thursday/
URL:https://rathskeller.com/events/klark-whitson-thursday/
END:VEVENT
END:VCALENDAR