BEGIN:VCALENDAR
VERSION:2.0
PRODID:-//eventon.com NONSGML v1.0//EN
CALSCALE:GREGORIAN
METHOD:PUBLISH
BEGIN:VEVENT
UID:69e9e79da1f06
DTSTAMP:20260423T093421Z
DTSTART:20260924T180000Z
DTEND:20260924T210000Z
LOCATION:
SUMMARY:Maddie & Phil
DESCRIPTION:Playing LIVE in the Rathskeller Biergarten! (weather permitting
 ) 6:00-9:00pm. Prevailing Cover Charge. +21\nhttps://rathskeller.com/events
 /maddie-phil/
URL:https://rathskeller.com/events/maddie-phil/
END:VEVENT
END:VCALENDAR