BEGIN:VCALENDAR
VERSION:2.0
PRODID:-//eventon.com NONSGML v1.0//EN
CALSCALE:GREGORIAN
METHOD:PUBLISH
BEGIN:VEVENT
UID:69e9e62997578
DTSTAMP:20260423T092809Z
DTSTART:20260626T183000Z
DTEND:20260626T194500Z
LOCATION:
SUMMARY:Revelry (Friday)
DESCRIPTION:Playing LIVE in the Rathskeller Biergarten! (weather permitting
 ) 6:30-7:45pm. Prevailing Cover Charge. +21\nhttps://rathskeller.com/events
 /revelry-friday-2/
URL:https://rathskeller.com/events/revelry-friday-2/
END:VEVENT
END:VCALENDAR