BEGIN:VCALENDAR
VERSION:2.0
PRODID:-//eventon.com NONSGML v1.0//EN
CALSCALE:GREGORIAN
METHOD:PUBLISH
BEGIN:VEVENT
UID:69e9e7d6703af
DTSTAMP:20260423T093518Z
DTSTART:20260710T181500Z
DTEND:20260710T194500Z
LOCATION:
SUMMARY:Josh Holland (Friday)
DESCRIPTION:Playing LIVE in the Rathskeller Biergarten! (weather permitting
 ) 6:15-7:45pm. Prevailing Cover Charge. +21\nhttps://rathskeller.com/events
 /josh-holland-friday/
URL:https://rathskeller.com/events/josh-holland-friday/
END:VEVENT
END:VCALENDAR