BEGIN:VCALENDAR
VERSION:2.0
PRODID:-//eventon.com NONSGML v1.0//EN
CALSCALE:GREGORIAN
METHOD:PUBLISH
BEGIN:VEVENT
UID:69e9e83601f27
DTSTAMP:20260423T093654Z
DTSTART:20260807T180000Z
DTEND:20260807T193000Z
LOCATION:
SUMMARY:Josh Holland (Friday)
DESCRIPTION:Playing LIVE in the Rathskeller Biergarten! (weather permitting
 ) 6:00-7:30pm. Prevailing Cover Charge. +21\nhttps://rathskeller.com/events
 /josh-holland-friday-2/
URL:https://rathskeller.com/events/josh-holland-friday-2/
END:VEVENT
END:VCALENDAR