BEGIN:VCALENDAR
VERSION:2.0
PRODID:-//eventon.com NONSGML v1.0//EN
CALSCALE:GREGORIAN
METHOD:PUBLISH
BEGIN:VEVENT
UID:69e9e810345ea
DTSTAMP:20260423T093616Z
DTSTART:20260911T181500Z
DTEND:20260911T194500Z
LOCATION:
SUMMARY:Josh Holland (Friday)
DESCRIPTION:Playing LIVE in the Rathskeller Biergarten! (weather permitting
 ) 6:15-7:45pm. Prevailing Cover Charge. +21\nhttps://rathskeller.com/events
 /josh-holland-friday-3/
URL:https://rathskeller.com/events/josh-holland-friday-3/
END:VEVENT
END:VCALENDAR