BEGIN:VCALENDAR
VERSION:2.0
PRODID:-//eventon.com NONSGML v1.0//EN
CALSCALE:GREGORIAN
METHOD:PUBLISH
BEGIN:VEVENT
UID:69e9e6be6b8f2
DTSTAMP:20260423T093038Z
DTSTART:20260926T130000Z
DTEND:20260926T160000Z
LOCATION:
SUMMARY:Gordon Bonham (Saturday)
DESCRIPTION:Playing LIVE in the Rathskeller Biergarten! (weather permitting
 ) 1:00-4:00pm. Prevailing Cover Charge. +21\nhttps://rathskeller.com/events
 /gordon-bonham-saturday-10/
URL:https://rathskeller.com/events/gordon-bonham-saturday-10/
END:VEVENT
END:VCALENDAR