BEGIN:VCALENDAR
VERSION:2.0
PRODID:-//eventon.com NONSGML v1.0//EN
CALSCALE:GREGORIAN
METHOD:PUBLISH
BEGIN:VEVENT
UID:69e9e7409d2a6
DTSTAMP:20260423T093248Z
DTSTART:20260926T170000Z
DTEND:20260926T190000Z
LOCATION:
SUMMARY:Revelry (Saturday)
DESCRIPTION:Playing LIVE in the Rathskeller Biergarten! (weather permitting
 ) 5:00-7:00pm. Prevailing Cover Charge. +21\nhttps://rathskeller.com/events
 /revelry-saturday/
URL:https://rathskeller.com/events/revelry-saturday/
END:VEVENT
END:VCALENDAR