BEGIN:VCALENDAR
VERSION:2.0
PRODID:-//eventon.com NONSGML v1.0//EN
CALSCALE:GREGORIAN
METHOD:PUBLISH
BEGIN:VEVENT
UID:69e9e7979093e
DTSTAMP:20260423T093415Z
DTSTART:20260412T140000Z
DTEND:20260412T170000Z
LOCATION:
SUMMARY:Breanna Faith (Sunday)
DESCRIPTION:Playing LIVE in the Rathskeller Biergarten! (weather permitting
 ) 2:00-5:00pm. Prevailing Cover Charge. +21\nhttps://rathskeller.com/events
 /breanna-faith-sunday/
URL:https://rathskeller.com/events/breanna-faith-sunday/
END:VEVENT
END:VCALENDAR